BEGIN:VCALENDAR
VERSION:2.0
PRODID:-//National Center for Real Estate Education - ECPv6.15.20//NONSGML v1.0//EN
CALSCALE:GREGORIAN
METHOD:PUBLISH
X-ORIGINAL-URL:https://garealestate.school
X-WR-CALDESC:Events for National Center for Real Estate Education
REFRESH-INTERVAL;VALUE=DURATION:PT1H
X-Robots-Tag:noindex
X-PUBLISHED-TTL:PT1H
BEGIN:VTIMEZONE
TZID:America/New_York
BEGIN:DAYLIGHT
TZOFFSETFROM:-0500
TZOFFSETTO:-0400
TZNAME:EDT
DTSTART:20250309T070000
END:DAYLIGHT
BEGIN:STANDARD
TZOFFSETFROM:-0400
TZOFFSETTO:-0500
TZNAME:EST
DTSTART:20251102T060000
END:STANDARD
BEGIN:DAYLIGHT
TZOFFSETFROM:-0500
TZOFFSETTO:-0400
TZNAME:EDT
DTSTART:20260308T070000
END:DAYLIGHT
BEGIN:STANDARD
TZOFFSETFROM:-0400
TZOFFSETTO:-0500
TZNAME:EST
DTSTART:20261101T060000
END:STANDARD
BEGIN:DAYLIGHT
TZOFFSETFROM:-0500
TZOFFSETTO:-0400
TZNAME:EDT
DTSTART:20270314T070000
END:DAYLIGHT
BEGIN:STANDARD
TZOFFSETFROM:-0400
TZOFFSETTO:-0500
TZNAME:EST
DTSTART:20271107T060000
END:STANDARD
END:VTIMEZONE
BEGIN:VEVENT
DTSTART;TZID=America/New_York:20260505T100000
DTEND;TZID=America/New_York:20260505T130000
DTSTAMP:20260416T075103
CREATED:20260406T135139Z
LAST-MODIFIED:20260406T135331Z
UID:4154-1777975200-1777986000@garealestate.school
SUMMARY:License Law CE
DESCRIPTION:Georgia’s licensing law exists to protect the public from incompetent\, dishonest licensees\, establish minimum standards for the licensing of brokers and salespersons (including licensee education and qualifications)\, establish and uphold high standards within the profession\, and ensure that the profession allows healthy and fair competition for its licensees. \nThis three-hour course covers these topics under Title 43\, Chapter 40\, of Georgia’s Statutes and Codes\, and the rules and regulations of the Georgia Real Estate Commission\, specifically under 520-1.
URL:https://garealestate.school/class/license-law-ce/
LOCATION:Monroe\, 224 N Hammond Drive\, Monroe\, GA\, 30655\, United States
CATEGORIES:Continuing Education
END:VEVENT
END:VCALENDAR